BEGIN:VCALENDAR
VERSION:2.0
PRODID:-//FEBICHAM - ECPv5.10.0//NONSGML v1.0//EN
CALSCALE:GREGORIAN
METHOD:PUBLISH
X-WR-CALNAME:FEBICHAM
X-ORIGINAL-URL:https://febicham.org
X-WR-CALDESC:Eventos para FEBICHAM
BEGIN:VTIMEZONE
TZID:UTC
BEGIN:STANDARD
TZOFFSETFROM:+0000
TZOFFSETTO:+0000
TZNAME:UTC
DTSTART:20260101T000000
END:STANDARD
END:VTIMEZONE
BEGIN:VEVENT
DTSTART;TZID=UTC:20260303T080000
DTEND;TZID=UTC:20260303T110000
DTSTAMP:20260423T202131
CREATED:20260227T152319Z
LAST-MODIFIED:20260227T152319Z
UID:11438-1772524800-1772535600@febicham.org
SUMMARY:The Future of U.S.–Venezuela Relations
DESCRIPTION:¡The Future of U.S.–Venezuela Relations!\nJoin the Venezuelan American Chamber of Commerce for an exclusive members-only Private Gathering featuring Charles Shapiro\, Former U.S. Ambassador to Venezuela\, and moderated by Aaron Rosen\, President of the World Affairs Council of Miami. \nThis timely conversation will explore the evolving political and economic dynamics between the United States and Venezuela\, and what they mean for business\, diplomacy\, and the Venezuelan-American community. \n🗓 Date: March 3rd\, 2026\n⏰ Time: 8:00 – 10:00 a.m.\n📍 Location: Eb Hotel\, 4299 NW 36th St\, Miami\, FL 33166 \nLimited capacity — only 30 guests.
URL:https://febicham.org/event/the-future-of-u-s-venezuela-relations/
LOCATION:EB Hotel\, 4299 NW 36th St\, Miami 33166
ATTACH;FMTTYPE=image/jpeg:https://febicham.org/wp-content/uploads/2026/02/3-marzo-The-Future-of-U.S.–Venezuela-Relations.jpg
END:VEVENT
END:VCALENDAR